BEGIN:VCALENDAR
VERSION:2.0
PRODID:SchoolNow
CALSCALE:GREGORIAN
BEGIN:VEVENT
UID:c8c0308e-5acf-11f0-9f3f-0a58a9feac02
DTSTAMP:20251216T154521Z
SUMMARY:No School-Memorial Day
URL;VALUE=URI:https://www.mcdowell.k12.nc.us/wme/calendar/8390706/no-school
 -memorial-day
DTSTART;VALUE=DATE:20260525
DTEND;VALUE=DATE:20260526
END:VEVENT
END:VCALENDAR
