BEGIN:VCALENDAR
VERSION:2.0
PRODID:SchoolNow
CALSCALE:GREGORIAN
BEGIN:VEVENT
UID:c8c0316a-5acf-11f0-8a23-0a58a9feac02
DTSTAMP:20251216T154521Z
SUMMARY:School Improvement Team Meeting
URL;VALUE=URI:https://www.mcdowell.k12.nc.us/wme/calendar/8390707/school-im
 provement-team-meeting
DTSTART:20260601T190000Z
DTEND:20260601T200000Z
END:VEVENT
END:VCALENDAR
