BEGIN:VCALENDAR
VERSION:2.0
PRODID:SchoolNow
CALSCALE:GREGORIAN
BEGIN:VEVENT
UID:c8c03246-5acf-11f0-b7ad-0a58a9feac02
DTSTAMP:20251216T154522Z
SUMMARY:Field Day
URL;VALUE=URI:https://www.mcdowell.k12.nc.us/wme/calendar/8390708/field-day
DTSTART;VALUE=DATE:20260603
DTEND;VALUE=DATE:20260604
END:VEVENT
END:VCALENDAR
