BEGIN:VCALENDAR
VERSION:2.0
PRODID:SchoolNow
CALSCALE:GREGORIAN
BEGIN:VEVENT
UID:c986184e-5acf-11f0-b4f7-0a58a9feac02
DTSTAMP:20251216T154522Z
SUMMARY:Graduation Day (PK\, K\, 5)
URL;VALUE=URI:https://www.mcdowell.k12.nc.us/wme/calendar/8390709/graduatio
 n-day-pk-k-5
DTSTART;VALUE=DATE:20260604
DTEND;VALUE=DATE:20260605
END:VEVENT
END:VCALENDAR
