BEGIN:VCALENDAR
VERSION:2.0
PRODID:SchoolNow
CALSCALE:GREGORIAN
BEGIN:VEVENT
UID:c9861c72-5acf-11f0-9b5f-0a58a9feac02
DTSTAMP:20251216T154521Z
SUMMARY:Last Day of School 1/2 Day
URL;VALUE=URI:https://www.mcdowell.k12.nc.us/wme/calendar/8390710/last-day-
 of-school-1-2-day
DTSTART;VALUE=DATE:20260605
DTEND;VALUE=DATE:20260606
END:VEVENT
END:VCALENDAR
