BEGIN:VCALENDAR
VERSION:2.0
PRODID:SchoolNow
CALSCALE:GREGORIAN
BEGIN:VEVENT
UID:c986205a-5acf-11f0-abc6-0a58a9feac02
DTSTAMP:20251216T154521Z
SUMMARY:Teacher Workday
URL;VALUE=URI:https://www.mcdowell.k12.nc.us/wme/calendar/8390713/teacher-w
 orkday
DTSTART;VALUE=DATE:20260610
DTEND;VALUE=DATE:20260611
END:VEVENT
END:VCALENDAR
