BEGIN:VCALENDAR
VERSION:2.0
PRODID:SchoolNow
CALSCALE:GREGORIAN
BEGIN:VEVENT
UID:54bff49c-97d5-11f0-aeda-0a58a9feac02
DTSTAMP:20251216T154522Z
SUMMARY:Open House
URL;VALUE=URI:https://www.mcdowell.k12.nc.us/wme/calendar/8653129/open-hous
 e
DTSTART:20250821T190000Z
DTEND:20250821T220000Z
END:VEVENT
END:VCALENDAR
