BEGIN:VCALENDAR
VERSION:2.0
PRODID:SchoolNow
CALSCALE:GREGORIAN
BEGIN:VEVENT
UID:54bff870-97d5-11f0-af42-0a58a9feac02
DTSTAMP:20251216T154521Z
SUMMARY:Cutter picture day
URL;VALUE=URI:https://www.mcdowell.k12.nc.us/wme/calendar/8653130/cutter-pi
 cture-day
DTSTART:20250905T120000Z
DTEND:20250905T130000Z
END:VEVENT
END:VCALENDAR
