BEGIN:VCALENDAR
VERSION:2.0
PRODID:SchoolNow
CALSCALE:GREGORIAN
BEGIN:VEVENT
UID:54bff9f6-97d5-11f0-ab04-0a58a9feac02
DTSTAMP:20251216T154521Z
SUMMARY:Book Character Parade
URL;VALUE=URI:https://www.mcdowell.k12.nc.us/wme/calendar/8653131/book-char
 acter-parade
DTSTART:20251031T170000Z
DTEND:20251031T180000Z
END:VEVENT
END:VCALENDAR
