BEGIN:VCALENDAR
VERSION:2.0
PRODID:SchoolNow
CALSCALE:GREGORIAN
BEGIN:VEVENT
UID:54bffde8-97d5-11f0-97f1-0a58a9feac02
DTSTAMP:20251216T154522Z
SUMMARY:Boo Bash
URL;VALUE=URI:https://www.mcdowell.k12.nc.us/wme/calendar/8653132/boo-bash
DTSTART:20251023T210000Z
DTEND:20251023T220000Z
END:VEVENT
END:VCALENDAR
