BEGIN:VCALENDAR
VERSION:2.0
PRODID:SchoolNow
CALSCALE:GREGORIAN
BEGIN:VEVENT
UID:54bfff32-97d5-11f0-bee4-0a58a9feac02
DTSTAMP:20251216T154522Z
SUMMARY:Kindergarten Title I Breakfast
URL;VALUE=URI:https://www.mcdowell.k12.nc.us/wme/calendar/8653133/kindergar
 ten-title-i-breakfast
DTSTART:20250922T120000Z
DTEND:20250922T130000Z
END:VEVENT
END:VCALENDAR
