BEGIN:VCALENDAR
VERSION:2.0
PRODID:SchoolNow
CALSCALE:GREGORIAN
BEGIN:VEVENT
UID:54c00040-97d5-11f0-b0d5-0a58a9feac02
DTSTAMP:20251216T154521Z
SUMMARY:1st Grade Title I Breakfast
URL;VALUE=URI:https://www.mcdowell.k12.nc.us/wme/calendar/8653134/1st-grade
 -title-i-breakfast
DTSTART:20250923T120000Z
DTEND:20250923T130000Z
END:VEVENT
END:VCALENDAR
