BEGIN:VCALENDAR
VERSION:2.0
PRODID:SchoolNow
CALSCALE:GREGORIAN
BEGIN:VEVENT
UID:54c0014e-97d5-11f0-a69c-0a58a9feac02
DTSTAMP:20251216T154521Z
SUMMARY:2nd Grade Title I Breakfast
URL;VALUE=URI:https://www.mcdowell.k12.nc.us/wme/calendar/8653135/2nd-grade
 -title-i-breakfast
DTSTART:20250924T120000Z
DTEND:20250924T130000Z
END:VEVENT
END:VCALENDAR
