BEGIN:VCALENDAR
VERSION:2.0
PRODID:SchoolNow
CALSCALE:GREGORIAN
BEGIN:VEVENT
UID:54c00248-97d5-11f0-8bad-0a58a9feac02
DTSTAMP:20251216T154521Z
SUMMARY:3rd Grade Title I Breakfast
URL;VALUE=URI:https://www.mcdowell.k12.nc.us/wme/calendar/8653136/3rd-grade
 -title-i-breakfast
DTSTART:20250925T120000Z
DTEND:20250925T130000Z
END:VEVENT
END:VCALENDAR
