BEGIN:VCALENDAR
VERSION:2.0
PRODID:SchoolNow
CALSCALE:GREGORIAN
BEGIN:VEVENT
UID:54c00342-97d5-11f0-9da5-0a58a9feac02
DTSTAMP:20251216T154521Z
SUMMARY:4th Grade Title I Breakfast
URL;VALUE=URI:https://www.mcdowell.k12.nc.us/wme/calendar/8653137/4th-grade
 -title-i-breakfast
DTSTART:20250926T120000Z
DTEND:20250926T130000Z
END:VEVENT
END:VCALENDAR
