BEGIN:VCALENDAR
VERSION:2.0
PRODID:SchoolNow
CALSCALE:GREGORIAN
BEGIN:VEVENT
UID:54c0043c-97d5-11f0-860b-0a58a9feac02
DTSTAMP:20251216T154521Z
SUMMARY:5th Grade Title I Breakfast
URL;VALUE=URI:https://www.mcdowell.k12.nc.us/wme/calendar/8653138/5th-grade
 -title-i-breakfast
DTSTART:20250929T120000Z
DTEND:20250929T130000Z
END:VEVENT
END:VCALENDAR
