BEGIN:VCALENDAR
VERSION:2.0
PRODID:SchoolNow
CALSCALE:GREGORIAN
BEGIN:VEVENT
UID:54c0052c-97d5-11f0-bf40-0a58a9feac02
DTSTAMP:20251216T154522Z
SUMMARY:Title I Breakfast\, Webb\, Spencer\, Kerry
URL;VALUE=URI:https://www.mcdowell.k12.nc.us/wme/calendar/8653139/title-i-b
 reakfast-webb-spencer-kerry
DTSTART:20250930T120000Z
DTEND:20250930T130000Z
END:VEVENT
END:VCALENDAR
