BEGIN:VCALENDAR
VERSION:2.0
PRODID:SchoolNow
CALSCALE:GREGORIAN
BEGIN:VEVENT
UID:6a9c8216-996b-11f0-bf40-0a58a9feac02
DTSTAMP:20251216T154521Z
SUMMARY:PTO Meeting\, WME
URL;VALUE=URI:https://www.mcdowell.k12.nc.us/wme/calendar/8660399/pto-meeti
 ng-wme
DTSTART:20251029T143000Z
DTEND:20251029T150000Z
END:VEVENT
END:VCALENDAR
