BEGIN:VCALENDAR
VERSION:2.0
PRODID:SchoolNow
CALSCALE:GREGORIAN
BEGIN:VEVENT
UID:ed10b6ce-a251-11f0-bad1-0a58a9feac02
DTSTAMP:20251216T154522Z
SUMMARY:School Improvement Team Meeting
URL;VALUE=URI:https://www.mcdowell.k12.nc.us/wme/calendar/8697604/school-im
 provement-team-meeting
DTSTART:20251020T190000Z
DTEND:20251020T200000Z
END:VEVENT
END:VCALENDAR
