BEGIN:VCALENDAR
VERSION:2.0
PRODID:SchoolNow
CALSCALE:GREGORIAN
BEGIN:VEVENT
UID:ed10ba16-a251-11f0-aa5e-0a58a9feac02
DTSTAMP:20251216T154521Z
SUMMARY:Fall Festival
URL;VALUE=URI:https://www.mcdowell.k12.nc.us/wme/calendar/8697605/fall-fest
 ival
DTSTART:20251017T210000Z
DTEND:20251017T220000Z
END:VEVENT
END:VCALENDAR
