BEGIN:VCALENDAR
VERSION:2.0
PRODID:SchoolNow
CALSCALE:GREGORIAN
BEGIN:VEVENT
UID:ed10bb74-a251-11f0-a960-0a58a9feac02
DTSTAMP:20251216T154521Z
SUMMARY:Last Day for Aaron Reynolds Book Order
URL;VALUE=URI:https://www.mcdowell.k12.nc.us/wme/calendar/8697606/last-day-
 for-aaron-reynolds-book-order
DTSTART;VALUE=DATE:20251012
DTEND;VALUE=DATE:20251013
END:VEVENT
END:VCALENDAR
