BEGIN:VCALENDAR
VERSION:2.0
PRODID:SchoolNow
CALSCALE:GREGORIAN
BEGIN:VEVENT
UID:ea296f4e-a2b7-11f0-ac1b-0ef8c405ab3d
DTSTAMP:20251216T154521Z
SUMMARY:School Improvement Team Meeting
URL;VALUE=URI:https://www.mcdowell.k12.nc.us/wme/calendar/8698976/school-im
 provement-team-meeting
DTSTART:20251117T200000Z
DTEND:20251117T210000Z
END:VEVENT
END:VCALENDAR
