BEGIN:VCALENDAR
VERSION:2.0
PRODID:SchoolNow
CALSCALE:GREGORIAN
BEGIN:VEVENT
UID:ea2973cc-a2b7-11f0-91c6-0ef8c405ab3d
DTSTAMP:20251216T154522Z
SUMMARY:School Improvement Team Meeting
URL;VALUE=URI:https://www.mcdowell.k12.nc.us/wme/calendar/8698978/school-im
 provement-team-meeting
DTSTART:20260126T200000Z
DTEND:20260126T210000Z
END:VEVENT
END:VCALENDAR
