BEGIN:VCALENDAR
VERSION:2.0
PRODID:SchoolNow
CALSCALE:GREGORIAN
BEGIN:VEVENT
UID:ea297548-a2b7-11f0-bc72-0ef8c405ab3d
DTSTAMP:20251216T154521Z
SUMMARY:School Improvement Team Meeting
URL;VALUE=URI:https://www.mcdowell.k12.nc.us/wme/calendar/8698979/school-im
 provement-team-meeting
DTSTART:20260216T200000Z
DTEND:20260216T210000Z
END:VEVENT
END:VCALENDAR
