BEGIN:VCALENDAR
VERSION:2.0
PRODID:SchoolNow
CALSCALE:GREGORIAN
BEGIN:VEVENT
UID:ea297656-a2b7-11f0-b0a0-0ef8c405ab3d
DTSTAMP:20251216T154521Z
SUMMARY:School Improvement Meeting
URL;VALUE=URI:https://www.mcdowell.k12.nc.us/wme/calendar/8698980/school-im
 provement-meeting
DTSTART:20260316T190000Z
DTEND:20260316T200000Z
END:VEVENT
END:VCALENDAR
