BEGIN:VCALENDAR
VERSION:2.0
PRODID:SchoolNow
CALSCALE:GREGORIAN
BEGIN:VEVENT
UID:ea29775a-a2b7-11f0-9309-0ef8c405ab3d
DTSTAMP:20251216T154521Z
SUMMARY:School Improvement Team Meeting
URL;VALUE=URI:https://www.mcdowell.k12.nc.us/wme/calendar/8698981/school-im
 provement-team-meeting
DTSTART:20260420T190000Z
DTEND:20260420T200000Z
END:VEVENT
END:VCALENDAR
