BEGIN:VCALENDAR
VERSION:2.0
PRODID:SchoolNow
CALSCALE:GREGORIAN
BEGIN:VEVENT
UID:ea29784a-a2b7-11f0-8128-0ef8c405ab3d
DTSTAMP:20251216T154522Z
SUMMARY:School Improvement Team Meeting
URL;VALUE=URI:https://www.mcdowell.k12.nc.us/wme/calendar/8698982/school-im
 provement-team-meeting
DTSTART:20260518T190000Z
DTEND:20260518T200000Z
END:VEVENT
END:VCALENDAR
