BEGIN:VCALENDAR
VERSION:2.0
PRODID:SchoolNow
CALSCALE:GREGORIAN
BEGIN:VEVENT
UID:6423a938-af90-11f0-879a-0a58a9feac02
DTSTAMP:20251216T154521Z
SUMMARY:Veterans Day Program
URL;VALUE=URI:https://www.mcdowell.k12.nc.us/wme/calendar/8743344/veterans-
 day-program
DTSTART:20251110T180000Z
DTEND:20251110T190000Z
END:VEVENT
END:VCALENDAR
