BEGIN:VCALENDAR
VERSION:2.0
PRODID:SchoolNow
CALSCALE:GREGORIAN
BEGIN:VEVENT
UID:ee9713c6-b886-11f0-a9bd-0a58a9feac02
DTSTAMP:20251216T154522Z
SUMMARY:PTO-Pancakes With Santa
URL;VALUE=URI:https://www.mcdowell.k12.nc.us/wme/calendar/8770174/pto-panca
 kes-with-santa
DTSTART:20251213T140000Z
DTEND:20251213T160000Z
END:VEVENT
END:VCALENDAR
