BEGIN:VCALENDAR
VERSION:2.0
PRODID:SchoolNow
CALSCALE:GREGORIAN
BEGIN:VEVENT
UID:ebc6e6aa-b91f-11f0-910f-0a58a9feac02
DTSTAMP:20251216T154521Z
SUMMARY:PTO Holly Jolly Dance
URL;VALUE=URI:https://www.mcdowell.k12.nc.us/wme/calendar/8774362/pto-holly
 -jolly-dance
DTSTART:20251205T200000Z
DTEND:20251205T210000Z
END:VEVENT
END:VCALENDAR
