BEGIN:VCALENDAR
VERSION:2.0
PRODID:SchoolNow
CALSCALE:GREGORIAN
BEGIN:VEVENT
UID:c77d80b0-bc1c-11f0-a98a-0affc65d32b1
DTSTAMP:20251216T154522Z
SUMMARY:PTO Pig Race and Silly String
URL;VALUE=URI:https://www.mcdowell.k12.nc.us/wme/calendar/8783446/pto-pig-r
 ace-and-silly-string
DTSTART:20251117T185000Z
DTEND:20251117T195000Z
END:VEVENT
END:VCALENDAR
