BEGIN:VCALENDAR
VERSION:2.0
PRODID:SchoolNow
CALSCALE:GREGORIAN
BEGIN:VEVENT
UID:7f5be5d6-c17d-11f0-aa0f-02795e3aed19
DTSTAMP:20251216T154521Z
SUMMARY:101 Dalmatians Community Performance
URL;VALUE=URI:https://www.mcdowell.k12.nc.us/wme/calendar/8795568/101-dalma
 tians-community-performance
DTSTART:20260529T220000Z
DTEND:20260529T230000Z
END:VEVENT
END:VCALENDAR
