BEGIN:VCALENDAR
VERSION:2.0
PRODID:SchoolNow
CALSCALE:GREGORIAN
BEGIN:VEVENT
UID:2c13f20e-c7dd-11f0-a4a3-0a58a9feac02
DTSTAMP:20251216T154521Z
SUMMARY:Brian bday
URL;VALUE=URI:https://www.mcdowell.k12.nc.us/wme/calendar/8808123/brian-bda
 y
DTSTART:20251213T200000Z
DTEND:20251213T210000Z
END:VEVENT
END:VCALENDAR
