BEGIN:VCALENDAR
VERSION:2.0
PRODID:SchoolNow
CALSCALE:GREGORIAN
BEGIN:VEVENT
UID:b504c7f4-d139-11f0-a55b-0e11a532da43
DTSTAMP:20251216T154521Z
SUMMARY:Grinch Pictures
URL;VALUE=URI:https://www.mcdowell.k12.nc.us/wme/calendar/8817459/grinch-pi
 ctures
DTSTART;VALUE=DATE:20251218
DTEND;VALUE=DATE:20251219
END:VEVENT
END:VCALENDAR
